BEGIN:VCALENDAR
VERSION:2.0
PRODID:-//Sterk in Eigen Kracht Coaching - ECPv6.15.20//NONSGML v1.0//EN
CALSCALE:GREGORIAN
METHOD:PUBLISH
X-WR-CALNAME:Sterk in Eigen Kracht Coaching
X-ORIGINAL-URL:https://sterkineigenkracht.nl
X-WR-CALDESC:Evenementen voor Sterk in Eigen Kracht Coaching
REFRESH-INTERVAL;VALUE=DURATION:PT1H
X-Robots-Tag:noindex
X-PUBLISHED-TTL:PT1H
BEGIN:VTIMEZONE
TZID:Europe/Amsterdam
BEGIN:DAYLIGHT
TZOFFSETFROM:+0100
TZOFFSETTO:+0200
TZNAME:CEST
DTSTART:20220327T010000
END:DAYLIGHT
BEGIN:STANDARD
TZOFFSETFROM:+0200
TZOFFSETTO:+0100
TZNAME:CET
DTSTART:20221030T010000
END:STANDARD
BEGIN:DAYLIGHT
TZOFFSETFROM:+0100
TZOFFSETTO:+0200
TZNAME:CEST
DTSTART:20230326T010000
END:DAYLIGHT
BEGIN:STANDARD
TZOFFSETFROM:+0200
TZOFFSETTO:+0100
TZNAME:CET
DTSTART:20231029T010000
END:STANDARD
BEGIN:DAYLIGHT
TZOFFSETFROM:+0100
TZOFFSETTO:+0200
TZNAME:CEST
DTSTART:20240331T010000
END:DAYLIGHT
BEGIN:STANDARD
TZOFFSETFROM:+0200
TZOFFSETTO:+0100
TZNAME:CET
DTSTART:20241027T010000
END:STANDARD
END:VTIMEZONE
BEGIN:VEVENT
DTSTART;TZID=Europe/Amsterdam:20230610T100000
DTEND;TZID=Europe/Amsterdam:20230610T110000
DTSTAMP:20260421T010947
CREATED:20230601T065932Z
LAST-MODIFIED:20230602T084238Z
UID:5028-1686391200-1686394800@sterkineigenkracht.nl
SUMMARY:Webinar Zonder meedwangen de zomer in?
DESCRIPTION:Webinar Zonder meedwangen de zomer in?\n\nDe zomervakantie komt eraan…\nOntspanning? Of juist niet? \nVoor de meeste naasten van mensen met psychische klachten of een GGZ-diagnose is de zomervakantie helemaal geen periode om naar uit te kijken.\nDe hele dag op elkaars lip. Geen afleiding van werk\, studie en de dagelijkse bezigheden.\nMeedwangen\, vermijden\, aanpassen aan de onvoorspelbaarheid van het gedrag van de GGZ-diagnose. \nDit jaar hoop je dat het beter gaat. Je wilt gaan genieten van deze zomer\, maar je krijgt het al benauwd als je eraan denkt. Je loopt nu al op eieren.\nAls de ander (en je gezin) het enigszins leuk hebben in de vakantie\, ben jij al blij. \nIs dat genoeg? Ben jij daar tevreden mee? Hoeveel kost dit jou op een schaal van 1 – 100 aan energie?\n(1 = kost geen energie / 100 = kost al je energie) \nWil jij deze zomer niet alleen maar overleven\, maar misschien zelfs gaan genieten?\nDan is de zomergroep Sterk in je vakantieKracht misschien iets voor jou. \nIn dit gratis webinar vertel ik je over: \n\nde opzet en inhoud van de zomergroep\nvoor wie deze zomergroep geschikt is\nwat je kunt verwachten en wat er van jou als deelnemer wordt verwacht\n\nAanmelden voor het webinar van zaterdag 10 juni 0m 10 uur. \nHetzelfde webinar geef ik woensdag 14 juni om 19 uur. Hier kun je je daarvoor aanmelden.
URL:https://sterkineigenkracht.nl/activiteiten/webinar-zonder-meedwangen-de-zomer-in/
CATEGORIES:Groepstraining
ATTACH;FMTTYPE=image/png:https://sterkineigenkracht.nl/wp-content/uploads/2023/06/Gratis-webinar-3.png
END:VEVENT
END:VCALENDAR