BEGIN:VCALENDAR
VERSION:2.0
PRODID:-//Sterk in Eigen Kracht Coaching - ECPv6.15.20//NONSGML v1.0//EN
CALSCALE:GREGORIAN
METHOD:PUBLISH
X-ORIGINAL-URL:https://sterkineigenkracht.nl
X-WR-CALDESC:Evenementen voor Sterk in Eigen Kracht Coaching
REFRESH-INTERVAL;VALUE=DURATION:PT1H
X-Robots-Tag:noindex
X-PUBLISHED-TTL:PT1H
BEGIN:VTIMEZONE
TZID:Europe/Amsterdam
BEGIN:DAYLIGHT
TZOFFSETFROM:+0100
TZOFFSETTO:+0200
TZNAME:CEST
DTSTART:20220327T010000
END:DAYLIGHT
BEGIN:STANDARD
TZOFFSETFROM:+0200
TZOFFSETTO:+0100
TZNAME:CET
DTSTART:20221030T010000
END:STANDARD
BEGIN:DAYLIGHT
TZOFFSETFROM:+0100
TZOFFSETTO:+0200
TZNAME:CEST
DTSTART:20230326T010000
END:DAYLIGHT
BEGIN:STANDARD
TZOFFSETFROM:+0200
TZOFFSETTO:+0100
TZNAME:CET
DTSTART:20231029T010000
END:STANDARD
BEGIN:DAYLIGHT
TZOFFSETFROM:+0100
TZOFFSETTO:+0200
TZNAME:CEST
DTSTART:20240331T010000
END:DAYLIGHT
BEGIN:STANDARD
TZOFFSETFROM:+0200
TZOFFSETTO:+0100
TZNAME:CET
DTSTART:20241027T010000
END:STANDARD
END:VTIMEZONE
BEGIN:VEVENT
DTSTART;TZID=Europe/Amsterdam:20230531T153000
DTEND;TZID=Europe/Amsterdam:20230531T170000
DTSTAMP:20260421T011105
CREATED:20230508T064753Z
LAST-MODIFIED:20230510T072445Z
UID:4953-1685547000-1685552400@sterkineigenkracht.nl
SUMMARY:Live informatie bijeenkomst - opleiding tot excellente naastencoach
DESCRIPTION:AANMELDEN \nWerk jij als coach/therapeut/psycholoog/POH-GGZ of andere professional met mensen die een gezinslid hebben met psychische klachten of een GGZ-diagnose?\nJe merkt dat je heel goed een luisterend oor kunt bieden en mee kunt denken\, maar je wilt je clënt/patiënt/coachee meer perspectief bieden. Je vraagt je af hoe je deze naasten nóg beter kunt helpen zodat ook zij weer plezier in het leven hebben naast hun gezinslid met psychische klachten of GGZ-diagnose. \nDe gangbare methodes die we hebben geleerd blijken niet altijd toereikend te zijn. Veel gericht op je cliënt/patiënt/coachee de ruimte geven om zijn verhaal te vertellen. Om daarna mee te denken hoe ze de situatie thuis kunnen volhouden als het gaat om hun partner of kind met een GGZ-diagnose. \nIs dat voor jou voldoende? Heb je het idee dat jouw cliënt/patiënt/coachee echt geholpen is?\nMijn ervaring is dat naasten zich niet werkelijk geholpen voelen. In mijn situatie met een partner en kind met GGZ-problematiek\, was het zeker fijn om mijn verhaal te kunnen vertellen\, maar ik bleef maar vertellen over mijn partner en kind. De tips en adviezen die ik kreeg\, klonken logisch maar waren niet haalbaar in mijn situatie. Ik bleef in hetzelfde kringetje ronddraaien en voelde me steeds meer onbegrepen. \nWat ik miste is dat IK werkelijk werd geholpen. Dat aan mij de juiste vragen werden gesteld. Het ging alleen maar over mijn partner en kind. Hoe ik hun kon helpen. Hoe ik kon zorgen dat het met hun beter ging.\nMaar waarom deed ik wat ik deed? Wat zei dat over mij? \nIk ben naasten anders gaan begeleiden. Op een manier die hen wel werkelijk helpt. En positief doorwerkt in hun thuissituatie.\nOp een excellente manier! \nIk heb als therapeut een andere keuze gemaakt. Die mag jij ook maken.\nDoe je het zoals je het ooit heb geleerd? Waarbij je precies weet hoe het werkt en wat je kunt verwachten? Zowel bij jezelf als bij je cliënt/patiënt/coachee?\nOf durf je rond te kijken en een andere weg te nemen? Juist omdat je meer wilt bereiken voor je cliënt/patiënt/coachee. En misschien  ook voor jezelf. Omdat je meer resultaat wilt zien van je begeleiding. Omdat je meer voldoening uit je werk wilt halen. Omdat je van je werk energie wilt krijgen. Omdat jij naasten op een excellente manier wil begeleiden. \nMijn cliënten zijn blij met een andere begeleiding. Minder aandacht voor hun partner of kind met de GGZ-diagnose en meer aandacht voor hoe zij het zelf doen. Daardoor wordt hun situatie thuis werkelijk beter. \nAANMELDEN \nDurf jij: \n\nte stoppen met het overtuigen van je cliënten/patiënten/coachees?\nhet aan om geen tips en adviezen meer te geven in je begeleidingsgesprekken?\nwerkelijk het voorbeeld te zijn? Practice what you preach!\nop een andere manier te gaan kijken als het gaat om naasten van bijvoorbeeld angst\, dwang\, depressie\, eetstoornissen\, ASS?\nnaasten een andere spiegel voor te houden als het gaat om verantwoordelijkheid (over)nemen\, meedwangen\, vermijden\, faciliteren\, grenzen stellen\, emotionele chantage\, redden en helpen?\nje cliënten/patiënten/coachees op een manier te gaan helpen die hen daadwerkelijk helpt?\n\nDurf jij je te onderscheiden als naastencoach? \nOp woensdag 31 mei van 15.30 tot 17.00 uur ben je welkom bij de live informatie bijeenkomst waarin ik je meeneem in de visie achter ‘Als helpen niet helpt’ en de Boonstra-methode waarin de visie concreet wordt. Ik geef je alle info over de tweedaagse training voor professionals en de zesdaagse opleiding\nVia praktijkvoorbeelden geef ik je inzicht hoe de Boonstra-methode werkt. \nAanmelden voor 31 mei 2023\nIn mijn praktijk in Alphen aan den Rijn \n\nJe bent bij dezelfde informatie bijeenkomst ook online welkom op dinsdag 23 mei 2023 van 19.00 tot 20.00 uur. \nVoor de online bijeenkomst kun je je hier aanmelden.
URL:https://sterkineigenkracht.nl/activiteiten/live-informatie-bijeenkomst-opleiding-tot-excellente-naastencoach-2/
CATEGORIES:Training voor coaches,webinar
ATTACH;FMTTYPE=image/png:https://sterkineigenkracht.nl/wp-content/uploads/2023/05/Als-helpen-niet-helpt-voor-professionals-online-1.png
END:VEVENT
END:VCALENDAR