BEGIN:VCALENDAR
VERSION:2.0
PRODID:-//Sterk in Eigen Kracht Coaching - ECPv6.15.20//NONSGML v1.0//EN
CALSCALE:GREGORIAN
METHOD:PUBLISH
X-ORIGINAL-URL:https://sterkineigenkracht.nl
X-WR-CALDESC:Evenementen voor Sterk in Eigen Kracht Coaching
REFRESH-INTERVAL;VALUE=DURATION:PT1H
X-Robots-Tag:noindex
X-PUBLISHED-TTL:PT1H
BEGIN:VTIMEZONE
TZID:Europe/Amsterdam
BEGIN:DAYLIGHT
TZOFFSETFROM:+0100
TZOFFSETTO:+0200
TZNAME:CEST
DTSTART:20220327T010000
END:DAYLIGHT
BEGIN:STANDARD
TZOFFSETFROM:+0200
TZOFFSETTO:+0100
TZNAME:CET
DTSTART:20221030T010000
END:STANDARD
BEGIN:DAYLIGHT
TZOFFSETFROM:+0100
TZOFFSETTO:+0200
TZNAME:CEST
DTSTART:20230326T010000
END:DAYLIGHT
BEGIN:STANDARD
TZOFFSETFROM:+0200
TZOFFSETTO:+0100
TZNAME:CET
DTSTART:20231029T010000
END:STANDARD
BEGIN:DAYLIGHT
TZOFFSETFROM:+0100
TZOFFSETTO:+0200
TZNAME:CEST
DTSTART:20240331T010000
END:DAYLIGHT
BEGIN:STANDARD
TZOFFSETFROM:+0200
TZOFFSETTO:+0100
TZNAME:CET
DTSTART:20241027T010000
END:STANDARD
END:VTIMEZONE
BEGIN:VEVENT
DTSTART;TZID=Europe/Amsterdam:20230403T090000
DTEND;TZID=Europe/Amsterdam:20230403T100000
DTSTAMP:20260421T043314
CREATED:20230323T090550Z
LAST-MODIFIED:20230323T090550Z
UID:4906-1680512400-1680516000@sterkineigenkracht.nl
SUMMARY:Gratis webinar meedwangen
DESCRIPTION:Ben jij een naaste (partner\, kind\, ouder\, broer of zus)  van iemand met een angststoornis\, OCD\, depressie\, eetstoornis of een andere GGZ-diagnose\, al of niet in combinatie met ASS?\nDie ander heeft het al niet makkelijk\, maar jij ook niet! \nMeedwangen\nHerken je het dat je continu ‘aan’ staat? Of op eieren loopt\, zoals sommige mensen dat noemen?\nWaarschijnlijk doe je dit omdat je probeert het gedrag van hem of haar in rustige banen te leiden.\nIk ken het\, want ik heb het zelf ruim 15 jaar gedaan. Bij mijn partner en mijn kind.\nIk heb alles gedaan om hen te helpen in hun angst\, dwang en depressie en al het gedrag dat daaruit voorkomt. \nEn heeft het geholpen wat ik deed? Wil je een eerlijk antwoord? NEE!\nDoor mijn helpen heb ik het zelfs erger gemaakt.\nDat had ik toen niet door\, want ik kon niet anders. Als ik me niet aanpaste\, ging het echt mis. \nAlle tips en adviezen die ik kreeg\, werkten niet. Het maakte dat ik me steeds eenzamer en machtelozer ging voelen. En boos! \nIk moest diep gaan om te ontdekken dat mijn helpen niet hielp en dat IK moest veranderen. Dat betekende stoppen met het ‘beter’ maken van mijn partner en kind. \nEmotionele chantage\nAchteraf weet ik dat we als gezin vastzaten in de emotionele chantage die angst en dwang (genadeloos) inzetten.\nAngstig en dwangmatig gedrag maakten gebruik van mijn liefde\, mijn verantwoordelijkheidsgevoel en mijn zorgzaamheid.\nWat ik te leren had was om mijn partner en kind hun eigen verantwoordelijkheid te geven. Ja\, ook aan mijn kind die toen pas negen jaar oud was.\nDus stoppen met grenzen stellen tegen hun gedrag en ruimte gaan innemen voor mezelf. \nToen bleek er – na vijftien jaar! – wel iets te veranderen.\nDe therapie bij mijn partner en kind had toen wel effect en ons andere kind kreeg meer aandacht. \nAls helpen niet helpt\nMisschien ken je ‘Als helpen niet helpt’\, het boek dat ik heb geschreven voor en over naasten van angst en dwang.\nDie titel is niet voor niets.\nAls jouw helpen werkelijk helpt in jouw situatie en het gaat steeds beter\, blijf vooral zo doorgaan.\nMerk je echter dat jouw helpen niet helpt\, de situatie langzaam steeds erger wordt en jij je steeds meer moet aanpassen en aan het verdwijnen bent… dan nodig ik je graag uit voor dit gratis webinar. \n\nWoensdag 29 maart 2023 om 19.00 uur\, aanmelden\nMaandag 3 april 2023 om 9.00 uur\, aanmelden\n\nIk leg je uit wat meedwangen is en hoe de emotionele chantage maakt dat jullie daar met elkaar in vastzitten.\nOok vertel ik je over de verschillende groepstrainingen ‘Als helpen niet helpt’.\nWhatsapp groepstraining start 29 april 2023\nLive groepstraining start 13 mei 2023\nDe online groepstraining start weer in september 2023 \n  \n 
URL:https://sterkineigenkracht.nl/activiteiten/gratis-webinar-meedwangen-2/
CATEGORIES:Groepstraining,webinar
ATTACH;FMTTYPE=image/png:https://sterkineigenkracht.nl/wp-content/uploads/2023/03/Gratis-webinar-Woensdag-29-maart-om-19.00-uur.png
END:VEVENT
END:VCALENDAR