BEGIN:VCALENDAR
VERSION:2.0
PRODID:-//Sterk in Eigen Kracht Coaching - ECPv6.15.20//NONSGML v1.0//EN
CALSCALE:GREGORIAN
METHOD:PUBLISH
X-WR-CALNAME:Sterk in Eigen Kracht Coaching
X-ORIGINAL-URL:https://sterkineigenkracht.nl
X-WR-CALDESC:Evenementen voor Sterk in Eigen Kracht Coaching
REFRESH-INTERVAL;VALUE=DURATION:PT1H
X-Robots-Tag:noindex
X-PUBLISHED-TTL:PT1H
BEGIN:VTIMEZONE
TZID:Europe/Amsterdam
BEGIN:DAYLIGHT
TZOFFSETFROM:+0100
TZOFFSETTO:+0200
TZNAME:CEST
DTSTART:20210328T010000
END:DAYLIGHT
BEGIN:STANDARD
TZOFFSETFROM:+0200
TZOFFSETTO:+0100
TZNAME:CET
DTSTART:20211031T010000
END:STANDARD
BEGIN:DAYLIGHT
TZOFFSETFROM:+0100
TZOFFSETTO:+0200
TZNAME:CEST
DTSTART:20220327T010000
END:DAYLIGHT
BEGIN:STANDARD
TZOFFSETFROM:+0200
TZOFFSETTO:+0100
TZNAME:CET
DTSTART:20221030T010000
END:STANDARD
BEGIN:DAYLIGHT
TZOFFSETFROM:+0100
TZOFFSETTO:+0200
TZNAME:CEST
DTSTART:20230326T010000
END:DAYLIGHT
BEGIN:STANDARD
TZOFFSETFROM:+0200
TZOFFSETTO:+0100
TZNAME:CET
DTSTART:20231029T010000
END:STANDARD
END:VTIMEZONE
BEGIN:VEVENT
DTSTART;TZID=Europe/Amsterdam:20220627T140000
DTEND;TZID=Europe/Amsterdam:20220627T160000
DTSTAMP:20260421T204523
CREATED:20220520T135904Z
LAST-MODIFIED:20220602T085452Z
UID:4473-1656338400-1656345600@sterkineigenkracht.nl
SUMMARY:Durf jij naasten hoop te geven? - informatie bijeenkomst voor professionals
DESCRIPTION:Van overleven naar leven naast iemand met een GGZ-diagnose\nWerk jij als coach/therapeut/psycholoog/POH-GGZ of andere professional met mensen die een gezinslid hebben met psychische klachten of een GGZ-diagnose?\nMerk je dat je heel goed een luisterend oor kunt bieden en mee kunt denken\, maar dat het daarbij blijft?\nJe cliënt kan weer even verder\, maar in zijn of haar thuissituatie is niets opgelost. \nDe gangbare methodes die we hebben geleerd blijken niet altijd toereikend te zijn. Veel gericht op je cliënt/patiënt/coachee de ruimte geven om zijn verhaal te vertellen. Om daarna mee te denken hoe ze de situatie thuis kunnen volhouden als het gaat om hun partner of kind met een GGZ-diagnose. Om te overleven in plaats van te leven. \nZou dat niet anders kunnen?\nZou jij als coach of therapeut niet meer willen en kunnen bereiken? \nZelf ben ik jarenlang aan het overleven geweest naast mijn partner en kind met hun GGZ-diagnose. Als therapeut begeleid ik nu toen jaar naasten in dezelfde situatie.\nMijn ervaring is dat veel naasten ervaren dat ze bij een professional (of in ouder- of partnerbegeleiding) hun verhaal kwijtkunnen. Dat is fijn. Dat geeft even lucht. Maar daarna……. blijkt er niets veranderd.\nIn mijn situatie met een partner en kind met GGZ-problematiek\, was het zeker fijn om mijn verhaal te kunnen vertellen\, maar ik bleef maar vertellen over mijn partner en kind. De tips en adviezen die ik kreeg\, klonken logisch maar waren niet haalbaar in mijn situatie. Ik bleef in hetzelfde kringetje ronddraaien en voelde me steeds meer onbegrepen. \nWat ik miste was dat aan mij de juiste vragen werden gesteld. Het ging alleen maar over mijn partner en kind.\nIk ben mensen anders gaan begeleiden. Op een manier die hen wel werkelijk helpt. En positief doorwerkt in hun thuissituatie.\nEen proces dat ongrijpbaar lijkt\, net als de wolken of de wind. Maar het resultaat en effect zijn duidelijk zichtbaar. \nNaasten regie geven over hun leven\nDe Boonstra-methode blijkt door jarenlange ervaring een manier met blijvend resultaat. Naasten krijgen grip op hun eigen situatie. In plaats van alleen hun hart te luchten\, krijgen ze de regie over hun leven terug naast hun partner of kind met de GGZ-diagnose.\nDaardoor kunnen ze effectief omgaan met de diagnose. Hun leven verandert echt en daardoor de thuissituatie ook. \nNaasten begrijpen\, voelen en ervaren de visie achter ‘Als helpen niet helpt’. Je kunt dit niet in één zin pakken\, maar het werkt doordat het is vormgegeven in de praktische Boonstra-methode.\nDaarin zit de structuur\, de theoretische onderbouwing en verantwoording\, de oefeningen en de handvatten. \nMijn cliënten zijn blij met een andere begeleiding. Minder aandacht voor hun partner of kind met de GGZ-diagnose en meer aandacht voor hoe zij het zelf kunnen en mogen doen. Daardoor wordt hun situatie thuis werkelijk beter.\nMaar wat hen het meest helpt is dat ik er in geloof dat ze wel iets kunnen veranderen. Ik geloof niet dat hun situatie een verloren zaak is.\nWant als ik er niet in geloof? Hoe kunnen zij het dan geloven? \nDurf jij naasten hoop te geven?\nWil jij werkelijk een verschil maken voor naasten met een heftige thuissituatie als gevolg van een gezinslid met een GGZ-diagnose?\nDurf jij: \n\nte stoppen met het overtuigen van je cliënten/patiënten/coachees?\nhet aan om geen tips en adviezen meer te geven in je begeleidingsgesprekken?\nwerkelijk het voorbeeld te zijn? Practice what you preach!\nop een andere manier te gaan kijken als het gaat om naasten van angst\, dwang\, depressie\, eetstoornissen\, ass\nnaasten een andere spiegel voor te houden als het gaat om verantwoordelijkheid (over)nemen\, meedwangen\, vermijden\, faciliteren\, grenzen stellen\, emotionele chantage\, redden en helpen?\nje cliënten/patiënten/coachees op een manier te gaan helpen die hen daadwerkelijk helpt?\nmensen hoop te geven?\n\nOp maandag 27 juni van 14.00 tot 16.00 uur en maandag 29 augustus van 19.00 tot 21.00 uur ben je welkom bij de informatie bijeenkomst waarin ik je via praktijkvoorbeelden inzicht geef in hoe de Boonstra-methode werkt.\nIk neem je in de visie achter ‘Als helpen niet helpt’ en de Boonstra-methode waarin de visie concreet wordt.\nEn ik geef je alle info over de tweedaagse training voor professionals en de zesdaagse opleiding\n \nAanmelden voor 27 juni 2022 \nAanmelden voor 29 augustus 2022
URL:https://sterkineigenkracht.nl/activiteiten/durf-jij-naasten-hoop-te-geven-informatie-bijeenkomst-27juni/
LOCATION:Alphen aan den Rijn\, Jongkindt Coninckstraat 10\, Alphen aan den Rijn\, Nederland
CATEGORIES:Training voor coaches,webinar
ATTACH;FMTTYPE=image/png:https://sterkineigenkracht.nl/wp-content/uploads/2022/05/Hoe-kun-je-het-ongrijpbare-vastpakken....png
END:VEVENT
END:VCALENDAR