BEGIN:VCALENDAR
VERSION:2.0
PRODID:-//Sterk in Eigen Kracht Coaching - ECPv6.15.20//NONSGML v1.0//EN
CALSCALE:GREGORIAN
METHOD:PUBLISH
X-ORIGINAL-URL:https://sterkineigenkracht.nl
X-WR-CALDESC:Evenementen voor Sterk in Eigen Kracht Coaching
REFRESH-INTERVAL;VALUE=DURATION:PT1H
X-Robots-Tag:noindex
X-PUBLISHED-TTL:PT1H
BEGIN:VTIMEZONE
TZID:Europe/Paris
BEGIN:DAYLIGHT
TZOFFSETFROM:+0100
TZOFFSETTO:+0200
TZNAME:CEST
DTSTART:20200329T010000
END:DAYLIGHT
BEGIN:STANDARD
TZOFFSETFROM:+0200
TZOFFSETTO:+0100
TZNAME:CET
DTSTART:20201025T010000
END:STANDARD
BEGIN:DAYLIGHT
TZOFFSETFROM:+0100
TZOFFSETTO:+0200
TZNAME:CEST
DTSTART:20210328T010000
END:DAYLIGHT
BEGIN:STANDARD
TZOFFSETFROM:+0200
TZOFFSETTO:+0100
TZNAME:CET
DTSTART:20211031T010000
END:STANDARD
BEGIN:DAYLIGHT
TZOFFSETFROM:+0100
TZOFFSETTO:+0200
TZNAME:CEST
DTSTART:20220327T010000
END:DAYLIGHT
BEGIN:STANDARD
TZOFFSETFROM:+0200
TZOFFSETTO:+0100
TZNAME:CET
DTSTART:20221030T010000
END:STANDARD
END:VTIMEZONE
BEGIN:VEVENT
DTSTART;TZID=Europe/Paris:20211104T160000
DTEND;TZID=Europe/Paris:20211104T170000
DTSTAMP:20260422T082521
CREATED:20211030T061449Z
LAST-MODIFIED:20211030T061449Z
UID:4203-1636041600-1636045200@sterkineigenkracht.nl
SUMMARY:Webinar 'Als helpen niet helpt'
DESCRIPTION:Webinar ‘Als helpen niet helpt’\nVoor mensen die een partner of kind hebben met angst of dwang.\nJe hebt een partner of kind met angst of dwang. Je probeert hem (of haar) te helpen… maar dat lukt niet.\nJe krijgt van anderen het advies om grenzen te stellen… maar dat lukt niet.\nJe probeert op een andere manier grenzen te stellen… maar dat lukt ook niet.\nWat je wel bereikt is dat de situatie telkens escaleert en jij en je hele gezin lijden eronder.\nDe angst of dwang bij je partner of kind wordt alleen maar minder als jij precies doet wat hij van jou vraagt.\nEn je weet dat het ‘spel’ later vandaag\, morgen of anders over een paar dagen weer opnieuw begint. \nJe probeert te helpen… en het helpt niet! \nKen je het boek ‘Als helpen niet helpt’? Daarin beschrijf ik hoe het komt dat jouw helpen niet helpt.\nIn dit gratis webinar neem ik je mee in de inzichten van het boek. \nWaar blijf jij?\nHoe wordt er rekening gehouden met jouw grenzen?\nWelke ruimte en vrijheid voel jij?\nWat mag jij wel of niet?\nWat moet jij wel of niet? \nWaarschijnlijk probeer jij te zorgen dat de spanning niet te hoog oploopt bij de ander. Daardoor word jij enorm beperkt en voel je weinig ontspanning. Misschien speelde dit al voor Corona\, misschien is het sinds die tijd pas echt duidelijk geworden.\nJe hebt al van alles geprobeerd om het beter te maken\, maar het heeft maar kort effect en waarschijnlijk wordt het uiteindelijk alleen maar erger in plaats van beter. Jouw machteloosheid en frustratie worden steeds groter. \nHoe komt het dat jij daarin vastzit? Waarom helpt het niet wat je doet? \nIn dit webinar laat ik je zien hoe dat komt en ga je begrijpen waarom je doet zoals je doet.\nEn ik geef je een inkijkje in de (online) groepstraining waarin je dit kunt leren.\nMijn uitgangspunt daarbij is: ga eerst begrijpen aan welk spel je meedoet en ga van daaruit helpen op een manier die wel helpt! \nDonderdag 4 november van 16.00 tot 17.00 uur\nof\nZaterdag 6 november van 11.00 tot 12.00 uur \nJe kunt je aanmelden door een berichtje te sturen met je naam\, mailadres en de dag dat je mee wilt doen naar:\nmail : info@sterkineigenkracht.nl\napp : 0681941059 \nEen dag van tevoren ontvang je een mail van 3CX (een beveiligd programma om te beeldbellen) met daarin de link om mee te doen. Tijdens het webinar kun je zelf kiezen of je in beeld wilt zijn.
URL:https://sterkineigenkracht.nl/activiteiten/webinar-als-helpen-niet-helpt-2/
CATEGORIES:webinar
ATTACH;FMTTYPE=image/png:https://sterkineigenkracht.nl/wp-content/uploads/2021/10/Copy-of-Groepstraining-3.png
END:VEVENT
END:VCALENDAR