BEGIN:VCALENDAR
VERSION:2.0
PRODID:-//Sterk in Eigen Kracht Coaching - ECPv6.15.20//NONSGML v1.0//EN
CALSCALE:GREGORIAN
METHOD:PUBLISH
X-WR-CALNAME:Sterk in Eigen Kracht Coaching
X-ORIGINAL-URL:https://sterkineigenkracht.nl
X-WR-CALDESC:Evenementen voor Sterk in Eigen Kracht Coaching
REFRESH-INTERVAL;VALUE=DURATION:PT1H
X-Robots-Tag:noindex
X-PUBLISHED-TTL:PT1H
BEGIN:VTIMEZONE
TZID:Europe/Amsterdam
BEGIN:DAYLIGHT
TZOFFSETFROM:+0100
TZOFFSETTO:+0200
TZNAME:CEST
DTSTART:20210328T010000
END:DAYLIGHT
BEGIN:STANDARD
TZOFFSETFROM:+0200
TZOFFSETTO:+0100
TZNAME:CET
DTSTART:20211031T010000
END:STANDARD
BEGIN:DAYLIGHT
TZOFFSETFROM:+0100
TZOFFSETTO:+0200
TZNAME:CEST
DTSTART:20220327T010000
END:DAYLIGHT
BEGIN:STANDARD
TZOFFSETFROM:+0200
TZOFFSETTO:+0100
TZNAME:CET
DTSTART:20221030T010000
END:STANDARD
BEGIN:DAYLIGHT
TZOFFSETFROM:+0100
TZOFFSETTO:+0200
TZNAME:CEST
DTSTART:20230326T010000
END:DAYLIGHT
BEGIN:STANDARD
TZOFFSETFROM:+0200
TZOFFSETTO:+0100
TZNAME:CET
DTSTART:20231029T010000
END:STANDARD
END:VTIMEZONE
BEGIN:VEVENT
DTSTART;TZID=Europe/Amsterdam:20220905T190000
DTEND;TZID=Europe/Amsterdam:20220905T210000
DTSTAMP:20260421T142051
CREATED:20220830T074020Z
LAST-MODIFIED:20220830T074203Z
UID:4562-1662404400-1662411600@sterkineigenkracht.nl
SUMMARY:'Als helpen niet helpt' voor professionals - online informatie bijeenkomst
DESCRIPTION:Werk jij als coach/therapeut/psycholoog/POH-GGZ of andere professional met mensen die een gezinslid hebben met psychische klachten of een GGZ-diagnose?\nMerk je dat je heel goed een luisterend oor kunt bieden en mee kunt denken\, maar dat je begeleiding eigenlijk te kort schiet? Dat je je cliënt/patiënt/coachee niet werkelijk kunt helpen? \nDe gangbare methodes die we hebben geleerd blijken niet altijd toereikend te zijn. Veel gericht op je cliënt/patiënt/coachee de ruimte geven om zijn verhaal te vertellen. Om daarna mee te denken hoe ze de situatie thuis kunnen volhouden als het gaat om hun partner of kind met een GGZ-diagnose.. \nIs dat voor jou voldoende? Bereik je hiermee wat je wilt bereiken? Heb je het idee dat je je cliënt/patiënt/coachee echt helpt?\nMijn ervaring is dat dit niet zo is. In mijn situatie met een partner en kind met GGZ-problematiek\, was het zeker fijn om mijn verhaal te kunnen vertellen\, maar ik bleef maar vertellen over mijn partner en kind. De tips en adviezen die ik kreeg\, klonken logisch maar waren niet haalbaar in mijn situatie. Ik bleef in hetzelfde kringetje ronddraaien en voelde me steeds meer onbegrepen. \nWat ik miste is dat aan mij de juiste vragen werden gesteld. Het ging alleen maar over mijn partner en kind.\nIk ben mensen anders gaan begeleiden. Op een manier die hen wel werkelijk helpt. En positief doorwerkt in hun thuissituatie. \nIk heb als therapeut een andere keuze gemaakt. Die mag jij ook maken.\nDoe je het zoals je het ooit heb geleerd? Waarbij je precies weet hoe het werkt en wat je kunt verwachten? Zowel bij jezelf als bij je cliënt/patiënt/coachee?\nOf durf je rond te kijken en een andere weg te nemen? Juist omdat je meer wilt bereiken voor je cliënt/patiënt/coachee. Enmisschien  ook voor jezelf. Omdat je meer resultaat wilt zien van je begeleidng. Omdat je meer voldoening uit je werk wilt halen. Omdat je van je werk energie wilt krijgen. \nMijn clienten zijn blij met een andere begeleiding. Minder aandacht voor hun partner of kind met de GGZ-diagnose en meer aandacht voor hoe zij het zelf doen. Daardoor wordt hun situatie thuis werkelijk beter. \nDurf jij: \n\nte stoppen met het overtuigen van je cliënten/patiënten/coachees?\nhet aan om geen tips en adviezen meer te geven in je begeleidingsgesprekken?\nwerkelijk het voorbeeld te zijn? Practice what you preach!\nop een andere manier te gaan kijken als het gaat om naasten van angst\, dwang\, depressie\, eetstoornissen\nnaasten een andere spiegel voor te houden als het gaat om verantwoordelijkheid (over)nemen\, meedwangen\, vermijden\, faciliteren\, grenzen stellen\, emotionele chantage\, redden en helpen?\nje cliënten/patiënten/coachees op een manier te gaan helpen die hen daadwerkelijk helpt?\n\nOp maandag 5 september van 19.00 tot 20.30 uur ben je online welkom bij de informatie bijeenkomst waarin ik je meeneem in de visie achter ‘Als helpen niet helpt’ en de Boonstra-methode waarin de visie concreet wordt. Ik geef je alle info over de tweedaagse training voor professionals en de zesdaagse opleiding\nVia praktijkvoorbeelden geef ik je inzicht hoe de Boonstra-methode werkt. \nAanmelden voor 5 september 2022
URL:https://sterkineigenkracht.nl/activiteiten/als-helpen-niet-helpt-voor-professionals-online-informatie-bijeenkomst/
CATEGORIES:Training voor coaches,webinar
ATTACH;FMTTYPE=image/png:https://sterkineigenkracht.nl/wp-content/uploads/2022/08/Hoe-kun-je-het-ongrijpbare-vastpakken-1a.png
END:VEVENT
END:VCALENDAR